BEGIN:VCALENDAR
VERSION:2.0
PRODID:-//hacksw/handcal//NONSGML v1.0//EN
CALSCALE:GREGORIAN
BEGIN:VEVENT
LOCATION:Hauptstrasse 105\, 3420 Kritzendorf
DESCRIPTION:Mo-Sa: ab 16h
So: Brunch 10-15h

Hauptstrasse 105\, 3420 Kritzendorf
Tel: 0676 - 475 15 51
DTSTART:20260422
DTEND:20260427
SUMMARY:Resperger
URL:
DTSTAMP:20260420T074248
UID:69e5d8f833fe7
END:VEVENT
END:VCALENDAR