BEGIN:VCALENDAR
VERSION:2.0
PRODID:-//hacksw/handcal//NONSGML v1.0//EN
CALSCALE:GREGORIAN
BEGIN:VEVENT
LOCATION:Hauptstrasse 24\, 3420 Kritzendorf
DESCRIPTION:Hauptstrasse 24\, 3420 Kritzendorf
Tel: +43 2243 24435
DTSTART:20260425
DTEND:20260427
SUMMARY:Frühlingsfest Schelhammerhof
URL:
DTSTAMP:20260420T074019
UID:69e5d86360461
END:VEVENT
END:VCALENDAR